BEGIN:VCALENDAR
VERSION:2.0
PRODID:-//wp-events-plugin.com//7.0.5//EN
BEGIN:VEVENT
UID:5-380@albverein-bergatreute.de
DTSTART:20260719T090000Z
DTEND:20260719T170000Z
DTSTAMP:20251217T182519Z
URL:https://www.albverein-bergatreute.de/ortsgruppe/veranstaltungen/albver
 einsfest-am-bierkeller-10/
SUMMARY:Albvereinsfest am Bierkeller
DESCRIPTION:Sommerfest am Bergatreuter Bierkeller
END:VEVENT
END:VCALENDAR