BEGIN:VCALENDAR
VERSION:2.0
PRODID:-//wp-events-plugin.com//7.0.5//EN
BEGIN:VEVENT
UID:5-384@albverein-bergatreute.de
DTSTART:20260905T220000Z
DTEND:20260905T220000Z
DTSTAMP:20251217T183539Z
URL:https://www.albverein-bergatreute.de/ortsgruppe/veranstaltungen/grosse
 -bergtour/
SUMMARY:Große Bergtour
DESCRIPTION:mit Jimmy Schmutz
END:VEVENT
END:VCALENDAR