BEGIN:VCALENDAR
VERSION:2.0
PRODID:-//wp-events-plugin.com//7.0.5//EN
BEGIN:VEVENT
UID:5-389@albverein-bergatreute.de
DTSTART:20261206T110000Z
DTEND:20261206T110000Z
DTSTAMP:20251217T190609Z
URL:https://www.albverein-bergatreute.de/ortsgruppe/veranstaltungen/nikola
 uswanderung-10/
SUMMARY:Nikolauswanderung
DESCRIPTION:mit Rudi und Uli Küble
END:VEVENT
END:VCALENDAR