BEGIN:VCALENDAR
VERSION:2.0
PRODID:-//wp-events-plugin.com//7.0.5//EN
BEGIN:VEVENT
UID:5-385@albverein-bergatreute.de
DTSTART:20260912T220000Z
DTEND:20260912T220000Z
DTSTAMP:20251217T185816Z
URL:https://www.albverein-bergatreute.de/ortsgruppe/veranstaltungen/radtou
 r-bei-umanand-kultur-im-parcour-in-oberschwaben-2/
SUMMARY:Radtour bei "Umanand-Kultur im Parcour in Oberschwaben"
DESCRIPTION:mit Sandy und Role Tilp
END:VEVENT
END:VCALENDAR