BEGIN:VCALENDAR
VERSION:2.0
PRODID:-//wp-events-plugin.com//7.0.5//EN
BEGIN:VEVENT
UID:5-390@albverein-bergatreute.de
DTSTART:20270110T110000Z
DTEND:20270110T110000Z
DTSTAMP:20251217T190840Z
URL:https://www.albverein-bergatreute.de/ortsgruppe/veranstaltungen/spring
 erleswanderung-13/
SUMMARY:Springerleswanderung
DESCRIPTION:mit Rudi Küble und Team
END:VEVENT
END:VCALENDAR