BEGIN:VCALENDAR
VERSION:2.0
PRODID:-//wp-events-plugin.com//7.0.5//EN
BEGIN:VEVENT
UID:5-381@albverein-bergatreute.de
DTSTART:20260725T220000Z
DTEND:20260725T220000Z
DTSTAMP:20251217T182736Z
URL:https://www.albverein-bergatreute.de/ortsgruppe/veranstaltungen/tagesw
 anderung-nobelkamm-lochau-kloster-mariastern/
SUMMARY:Tageswanderung Nobelkamm-Lochau-Kloster Mariastern
DESCRIPTION:mit Bärbel Roth
END:VEVENT
END:VCALENDAR