BEGIN:VCALENDAR
VERSION:2.0
PRODID:-//wp-events-plugin.com//7.0.5//EN
BEGIN:VEVENT
UID:5-386@albverein-bergatreute.de
DTSTART:20260926T220000Z
DTEND:20260926T220000Z
DTSTAMP:20251217T185959Z
URL:https://www.albverein-bergatreute.de/ortsgruppe/veranstaltungen/tagesw
 anderung-panoramawanderung-bei-heiligenberg/
SUMMARY:Tageswanderung Panoramawanderung bei Heiligenberg
DESCRIPTION:mit Gisela Brauchle
END:VEVENT
END:VCALENDAR