BEGIN:VCALENDAR
VERSION:2.0
PRODID:-//wp-events-plugin.com//7.0.5//EN
BEGIN:VEVENT
UID:5-387@albverein-bergatreute.de
DTSTART:20261017T220000Z
DTEND:20261017T220000Z
DTSTAMP:20251217T190147Z
URL:https://www.albverein-bergatreute.de/ortsgruppe/veranstaltungen/tagesw
 anderung-runde-bei-wintersulgen-betenbrunn/
SUMMARY:Tageswanderung\, Runde bei Wintersulgen\, Betenbrunn
DESCRIPTION:mit Bärbel Roth
END:VEVENT
END:VCALENDAR