BEGIN:VCALENDAR
VERSION:2.0
PRODID:-//wp-events-plugin.com//7.0.5//EN
BEGIN:VEVENT
UID:5-388@albverein-bergatreute.de
DTSTART:20261108T110000Z
DTEND:20261129T110000Z
DTSTAMP:20251217T190418Z
URL:https://www.albverein-bergatreute.de/ortsgruppe/veranstaltungen/techni
 kwanderung-mit-armin-weiss/
SUMMARY:Technikwanderung mit Armin Weiß
DESCRIPTION:Der genaue Termin wird noch festgelegt.\n\n&nbsp\;
END:VEVENT
END:VCALENDAR