BEGIN:VCALENDAR
VERSION:2.0
PRODID:-//wp-events-plugin.com//7.0.5//EN
BEGIN:VEVENT
UID:5-383@albverein-bergatreute.de
DTSTART:20260816T110000Z
DTEND:20260816T110000Z
DTSTAMP:20251217T183338Z
URL:https://www.albverein-bergatreute.de/ortsgruppe/veranstaltungen/wander
 ung-zum-zeltlager-7/
SUMMARY:Wanderung zum Zeltlager
DESCRIPTION:mit Bärbel Roth
END:VEVENT
END:VCALENDAR