BEGIN:VCALENDAR
VERSION:2.0
PRODID:-//wp-events-plugin.com//7.0.5//EN
BEGIN:VEVENT
UID:5-382@albverein-bergatreute.de
DTSTART:20260806T220000Z
DTEND:20260820T220000Z
DTSTAMP:20251217T183058Z
URL:https://www.albverein-bergatreute.de/ortsgruppe/veranstaltungen/zeltla
 ger-am-buchsee-4/
SUMMARY:Zeltlager am Buchsee
DESCRIPTION:Albvereinsjugend Bergatreute\n\nHier weitere Infos
END:VEVENT
END:VCALENDAR